BEGIN:VCALENDAR
VERSION:2.0
PRODID:-//Pacific Bowmen Archery Club - Reedy Creek - ECPv5.0.2//NONSGML v1.0//EN
CALSCALE:GREGORIAN
METHOD:PUBLISH
X-WR-CALNAME:Pacific Bowmen Archery Club - Reedy Creek
X-ORIGINAL-URL:https://www.pacificbowmen.org.au
X-WR-CALDESC:Events for Pacific Bowmen Archery Club - Reedy Creek
BEGIN:VTIMEZONE
TZID:Australia/Brisbane
BEGIN:STANDARD
TZOFFSETFROM:+1000
TZOFFSETTO:+1000
TZNAME:AEST
DTSTART:20200101T000000
END:STANDARD
END:VTIMEZONE
BEGIN:VEVENT
DTSTART;TZID=Australia/Brisbane:20200322T080000
DTEND;TZID=Australia/Brisbane:20200322T100000
DTSTAMP:20200228T145115
CREATED:20200223T230944Z
LAST-MODIFIED:20200223T232507Z
UID:2457-1584864000-1584871200@www.pacificbowmen.org.au
SUMMARY:Working Bee
DESCRIPTION:
URL:https://www.pacificbowmen.org.au/event/working-bee-2/
END:VEVENT
END:VCALENDAR