BEGIN:VCALENDAR
VERSION:2.0
PRODID:-//Pacific Bowmen Archery Club - Reedy Creek - ECPv5.0.2//NONSGML v1.0//EN
CALSCALE:GREGORIAN
METHOD:PUBLISH
X-WR-CALNAME:Pacific Bowmen Archery Club - Reedy Creek
X-ORIGINAL-URL:https://www.pacificbowmen.org.au
X-WR-CALDESC:Events for Pacific Bowmen Archery Club - Reedy Creek
BEGIN:VTIMEZONE
TZID:Australia/Brisbane
BEGIN:STANDARD
TZOFFSETFROM:+1000
TZOFFSETTO:+1000
TZNAME:AEST
DTSTART:20200101T000000
END:STANDARD
END:VTIMEZONE
BEGIN:VEVENT
DTSTART;VALUE=DATE:20200314
DTEND;VALUE=DATE:20200316
DTSTAMP:20200228T145024
CREATED:20200223T230852Z
LAST-MODIFIED:20200223T230852Z
UID:2455-1584144000-1584316799@www.pacificbowmen.org.au
SUMMARY:Branch 3D Titles - Roma (2days)
DESCRIPTION:
URL:https://www.pacificbowmen.org.au/event/branch-3d-titles-roma-2days/
END:VEVENT
END:VCALENDAR