BEGIN:VCALENDAR
VERSION:2.0
PRODID:-//Pacific Bowmen Archery Club - Reedy Creek - ECPv5.0.2//NONSGML v1.0//EN
CALSCALE:GREGORIAN
METHOD:PUBLISH
X-WR-CALNAME:Pacific Bowmen Archery Club - Reedy Creek
X-ORIGINAL-URL:https://www.pacificbowmen.org.au
X-WR-CALDESC:Events for Pacific Bowmen Archery Club - Reedy Creek
BEGIN:VTIMEZONE
TZID:Australia/Brisbane
BEGIN:STANDARD
TZOFFSETFROM:+1000
TZOFFSETTO:+1000
TZNAME:AEST
DTSTART:20200101T000000
END:STANDARD
END:VTIMEZONE
BEGIN:VEVENT
DTSTART;TZID=Australia/Brisbane:20200209T080000
DTEND;TZID=Australia/Brisbane:20200209T120000
DTSTAMP:20200228T142742
CREATED:20191130T110756Z
LAST-MODIFIED:20191130T110756Z
UID:2412-1581235200-1581249600@www.pacificbowmen.org.au
SUMMARY:Club Shoot – Vinyl Colour 3 Arrow +1 Arrow
DESCRIPTION:
URL:https://www.pacificbowmen.org.au/event/club-shoot-vinyl-colour-3-arrow-1-arrow/
END:VEVENT
END:VCALENDAR