BEGIN:VCALENDAR
VERSION:2.0
PRODID:-//Pacific Bowmen Archery Club - Reedy Creek - ECPv5.0.2//NONSGML v1.0//EN
CALSCALE:GREGORIAN
METHOD:PUBLISH
X-WR-CALNAME:Pacific Bowmen Archery Club - Reedy Creek
X-ORIGINAL-URL:https://www.pacificbowmen.org.au
X-WR-CALDESC:Events for Pacific Bowmen Archery Club - Reedy Creek
BEGIN:VTIMEZONE
TZID:Australia/Brisbane
BEGIN:STANDARD
TZOFFSETFROM:+1000
TZOFFSETTO:+1000
TZNAME:AEST
DTSTART:20200101T000000
END:STANDARD
END:VTIMEZONE
BEGIN:VEVENT
DTSTART;TZID=Australia/Brisbane:20200202T080000
DTEND;TZID=Australia/Brisbane:20200202T103000
DTSTAMP:20200228T145423
CREATED:20191130T110528Z
LAST-MODIFIED:20191130T110528Z
UID:2408-1580630400-1580639400@www.pacificbowmen.org.au
SUMMARY:Working Bee
DESCRIPTION:
URL:https://www.pacificbowmen.org.au/event/working-bee/
END:VEVENT
END:VCALENDAR