BEGIN:VCALENDAR
VERSION:2.0
PRODID:-//Pacific Bowmen Archery Club - Reedy Creek - ECPv5.0.2//NONSGML v1.0//EN
CALSCALE:GREGORIAN
METHOD:PUBLISH
X-WR-CALNAME:Pacific Bowmen Archery Club - Reedy Creek
X-ORIGINAL-URL:https://www.pacificbowmen.org.au
X-WR-CALDESC:Events for Pacific Bowmen Archery Club - Reedy Creek
BEGIN:VTIMEZONE
TZID:Australia/Brisbane
BEGIN:STANDARD
TZOFFSETFROM:+1000
TZOFFSETTO:+1000
TZNAME:AEST
DTSTART:20200101T000000
END:STANDARD
END:VTIMEZONE
BEGIN:VEVENT
DTSTART;TZID=Australia/Brisbane:20200328T080000
DTEND;TZID=Australia/Brisbane:20200328T113000
DTSTAMP:20200228T144018
CREATED:20200223T231030Z
LAST-MODIFIED:20200223T231030Z
UID:2459-1585382400-1585395000@www.pacificbowmen.org.au
SUMMARY:Coaching / Newbies Intro
DESCRIPTION:
URL:https://www.pacificbowmen.org.au/event/coaching-newbies-intro/
END:VEVENT
END:VCALENDAR